BEGIN:VCALENDAR
VERSION:2.0
PRODID:-//ITBF - ECPv6.15.20//NONSGML v1.0//EN
CALSCALE:GREGORIAN
METHOD:PUBLISH
X-ORIGINAL-URL:https://itbf-eu.be
X-WR-CALDESC:Évènements pour ITBF
REFRESH-INTERVAL;VALUE=DURATION:PT1H
X-Robots-Tag:noindex
X-PUBLISHED-TTL:PT1H
BEGIN:VTIMEZONE
TZID:Europe/Paris
BEGIN:DAYLIGHT
TZOFFSETFROM:+0100
TZOFFSETTO:+0200
TZNAME:CEST
DTSTART:20200329T010000
END:DAYLIGHT
BEGIN:STANDARD
TZOFFSETFROM:+0200
TZOFFSETTO:+0100
TZNAME:CET
DTSTART:20201025T010000
END:STANDARD
BEGIN:DAYLIGHT
TZOFFSETFROM:+0100
TZOFFSETTO:+0200
TZNAME:CEST
DTSTART:20210328T010000
END:DAYLIGHT
BEGIN:STANDARD
TZOFFSETFROM:+0200
TZOFFSETTO:+0100
TZNAME:CET
DTSTART:20211031T010000
END:STANDARD
BEGIN:DAYLIGHT
TZOFFSETFROM:+0100
TZOFFSETTO:+0200
TZNAME:CEST
DTSTART:20220327T010000
END:DAYLIGHT
BEGIN:STANDARD
TZOFFSETFROM:+0200
TZOFFSETTO:+0100
TZNAME:CET
DTSTART:20221030T010000
END:STANDARD
END:VTIMEZONE
BEGIN:VEVENT
DTSTART;TZID=Europe/Paris:20211212T150000
DTEND;TZID=Europe/Paris:20211212T170000
DTSTAMP:20260424T234725
CREATED:20210628T171134Z
LAST-MODIFIED:20210628T171134Z
UID:8433-1639321200-1639328400@itbf-eu.be
SUMMARY:Duan wei  Tai Chi
DESCRIPTION:
URL:https://itbf-eu.be/agenda/duan-wei-tai-chi/
LOCATION:Hall Sportif de METTET\, de Saint-Donat\, 15\, METTET\, Hainaut\, 5640\, Belgique
ORGANIZER;CN="I.T.B.F":MAILTO:christian@itbf-eu.be
END:VEVENT
END:VCALENDAR