BEGIN:VCALENDAR
VERSION:2.0
PRODID:-//ITBF - ECPv6.15.20//NONSGML v1.0//EN
CALSCALE:GREGORIAN
METHOD:PUBLISH
X-WR-CALNAME:ITBF
X-ORIGINAL-URL:https://itbf-eu.be
X-WR-CALDESC:Évènements pour ITBF
REFRESH-INTERVAL;VALUE=DURATION:PT1H
X-Robots-Tag:noindex
X-PUBLISHED-TTL:PT1H
BEGIN:VTIMEZONE
TZID:Europe/Paris
BEGIN:DAYLIGHT
TZOFFSETFROM:+0100
TZOFFSETTO:+0200
TZNAME:CEST
DTSTART:20190331T010000
END:DAYLIGHT
BEGIN:STANDARD
TZOFFSETFROM:+0200
TZOFFSETTO:+0100
TZNAME:CET
DTSTART:20191027T010000
END:STANDARD
BEGIN:DAYLIGHT
TZOFFSETFROM:+0100
TZOFFSETTO:+0200
TZNAME:CEST
DTSTART:20200329T010000
END:DAYLIGHT
BEGIN:STANDARD
TZOFFSETFROM:+0200
TZOFFSETTO:+0100
TZNAME:CET
DTSTART:20201025T010000
END:STANDARD
BEGIN:DAYLIGHT
TZOFFSETFROM:+0100
TZOFFSETTO:+0200
TZNAME:CEST
DTSTART:20210328T010000
END:DAYLIGHT
BEGIN:STANDARD
TZOFFSETFROM:+0200
TZOFFSETTO:+0100
TZNAME:CET
DTSTART:20211031T010000
END:STANDARD
END:VTIMEZONE
BEGIN:VEVENT
DTSTART;TZID=Europe/Paris:20200201T090000
DTEND;TZID=Europe/Paris:20200201T170000
DTSTAMP:20260426T013508
CREATED:20190714T145922Z
LAST-MODIFIED:20190714T145922Z
UID:2107-1580547600-1580576400@itbf-eu.be
SUMMARY:Stage Multi-discipline
DESCRIPTION:Stage Multi-discipline à Draguignan
URL:https://itbf-eu.be/agenda/stage-multi-discipline-3/
LOCATION:Draguignan\, Boulevards des Fleurs\, Draguignan\, France
END:VEVENT
BEGIN:VEVENT
DTSTART;TZID=Europe/Paris:20200208T150000
DTEND;TZID=Europe/Paris:20200208T170000
DTSTAMP:20260426T013508
CREATED:20190714T155904Z
LAST-MODIFIED:20190915T102031Z
UID:2110-1581174000-1581181200@itbf-eu.be
SUMMARY:Assemblée Générale
DESCRIPTION:C’est l’occasion pour chacun de pouvoir se tenir au courant des réalisations et des perspectives d’avenir de L’ASBL I.T.B.F. \n 
URL:https://itbf-eu.be/agenda/assemblee-generale-2/
ORGANIZER;CN="I.T.B.F":MAILTO:christian@itbf-eu.be
END:VEVENT
BEGIN:VEVENT
DTSTART;TZID=Europe/Paris:20200209T140000
DTEND;TZID=Europe/Paris:20200209T160000
DTSTAMP:20260426T013508
CREATED:20190714T160556Z
LAST-MODIFIED:20190915T102037Z
UID:2116-1581256800-1581264000@itbf-eu.be
SUMMARY:Cours Fédéral Multi-Discipline
DESCRIPTION:
URL:https://itbf-eu.be/agenda/cours-federal-multi-discipline-3/
ORGANIZER;CN="I.T.B.F":MAILTO:christian@itbf-eu.be
END:VEVENT
BEGIN:VEVENT
DTSTART;TZID=Europe/Paris:20200215T140000
DTEND;TZID=Europe/Paris:20200215T180000
DTSTAMP:20260426T013508
CREATED:20190714T160930Z
LAST-MODIFIED:20190714T160930Z
UID:2119-1581775200-1581789600@itbf-eu.be
SUMMARY:Stage Tai Chi martial
DESCRIPTION:Stage Tai Chi martial à Chanxhe
URL:https://itbf-eu.be/agenda/stage-tai-chi-martial-2/
LOCATION:Chanxhe\, Chanxhe\, Belgique
ORGANIZER;CN="La Recherche du Tao - ASBL":MAILTO:secretariat@larecherchedutao.com
END:VEVENT
BEGIN:VEVENT
DTSTART;TZID=Europe/Paris:20200221T100000
DTEND;TZID=Europe/Paris:20200221T170000
DTSTAMP:20260426T013508
CREATED:20190714T161134Z
LAST-MODIFIED:20190714T161134Z
UID:2121-1582279200-1582304400@itbf-eu.be
SUMMARY:Tai chi Formation profs système SUN
DESCRIPTION:Tai chi Formation profs système SUN à Seraing
URL:https://itbf-eu.be/agenda/tai-chi-formation-profs-systeme-sun-13/
LOCATION:Seraing\, Seraing\, Belgique
ORGANIZER;CN="La Recherche du Tao - ASBL":MAILTO:secretariat@larecherchedutao.com
END:VEVENT
BEGIN:VEVENT
DTSTART;TZID=Europe/Paris:20200222T100000
DTEND;TZID=Europe/Paris:20200222T150000
DTSTAMP:20260426T013508
CREATED:20190714T162413Z
LAST-MODIFIED:20190714T162413Z
UID:2127-1582365600-1582383600@itbf-eu.be
SUMMARY:Stage tsue gei jutsu défense canne
DESCRIPTION:Stage tsue gei jutsu défense canne à Carnières
URL:https://itbf-eu.be/agenda/stage-tsue-gei-jutsu-defense-canne-3/
ORGANIZER;CN="Genkotsu":MAILTO:clara5335@hotmail.com
END:VEVENT
BEGIN:VEVENT
DTSTART;TZID=Europe/Paris:20200222T100000
DTEND;TZID=Europe/Paris:20200222T173000
DTSTAMP:20260426T013508
CREATED:20190714T161339Z
LAST-MODIFIED:20190714T161339Z
UID:2125-1582365600-1582392600@itbf-eu.be
SUMMARY:Tai chi Formation profs système SUN
DESCRIPTION:Tai chi Formation profs système SUN à Chanxhe
URL:https://itbf-eu.be/agenda/tai-chi-formation-profs-systeme-sun-15/
LOCATION:Chanxhe\, Chanxhe\, Belgique
ORGANIZER;CN="La Recherche du Tao - ASBL":MAILTO:secretariat@larecherchedutao.com
END:VEVENT
BEGIN:VEVENT
DTSTART;TZID=Europe/Paris:20200223T100000
DTEND;TZID=Europe/Paris:20200223T170000
DTSTAMP:20260426T013508
CREATED:20190714T161222Z
LAST-MODIFIED:20190714T161222Z
UID:2123-1582452000-1582477200@itbf-eu.be
SUMMARY:Tai chi Formation profs système SUN
DESCRIPTION:Tai chi Formation profs système SUN à Seraing
URL:https://itbf-eu.be/agenda/tai-chi-formation-profs-systeme-sun-14/
LOCATION:Seraing\, Seraing\, Belgique
ORGANIZER;CN="La Recherche du Tao - ASBL":MAILTO:secretariat@larecherchedutao.com
END:VEVENT
END:VCALENDAR