BEGIN:VCALENDAR
VERSION:2.0
PRODID:-//ITBF - ECPv6.15.20//NONSGML v1.0//EN
CALSCALE:GREGORIAN
METHOD:PUBLISH
X-ORIGINAL-URL:https://itbf-eu.be
X-WR-CALDESC:Évènements pour ITBF
REFRESH-INTERVAL;VALUE=DURATION:PT1H
X-Robots-Tag:noindex
X-PUBLISHED-TTL:PT1H
BEGIN:VTIMEZONE
TZID:Europe/Paris
BEGIN:DAYLIGHT
TZOFFSETFROM:+0100
TZOFFSETTO:+0200
TZNAME:CEST
DTSTART:20220327T010000
END:DAYLIGHT
BEGIN:STANDARD
TZOFFSETFROM:+0200
TZOFFSETTO:+0100
TZNAME:CET
DTSTART:20221030T010000
END:STANDARD
BEGIN:DAYLIGHT
TZOFFSETFROM:+0100
TZOFFSETTO:+0200
TZNAME:CEST
DTSTART:20230326T010000
END:DAYLIGHT
BEGIN:STANDARD
TZOFFSETFROM:+0200
TZOFFSETTO:+0100
TZNAME:CET
DTSTART:20231029T010000
END:STANDARD
BEGIN:DAYLIGHT
TZOFFSETFROM:+0100
TZOFFSETTO:+0200
TZNAME:CEST
DTSTART:20240331T010000
END:DAYLIGHT
BEGIN:STANDARD
TZOFFSETFROM:+0200
TZOFFSETTO:+0100
TZNAME:CET
DTSTART:20241027T010000
END:STANDARD
END:VTIMEZONE
BEGIN:VEVENT
DTSTART;TZID=Europe/Paris:20230121T110000
DTEND;TZID=Europe/Paris:20230121T130000
DTSTAMP:20260424T101007
CREATED:20220907T100818Z
LAST-MODIFIED:20220907T100818Z
UID:8709-1674298800-1674306000@itbf-eu.be
SUMMARY:Cours fédéral Aïkido 2/4
DESCRIPTION:
URL:https://itbf-eu.be/agenda/cours-federal-aikido-2-4-2/
LOCATION:kokyu bouf\, Rue Emile Vandervelde\, 128\, Bouffioulx\, 6200\, Belgique
END:VEVENT
BEGIN:VEVENT
DTSTART;TZID=Europe/Paris:20230121T143000
DTEND;TZID=Europe/Paris:20230121T173000
DTSTAMP:20260424T101007
CREATED:20220907T100924Z
LAST-MODIFIED:20220907T100924Z
UID:8710-1674311400-1674322200@itbf-eu.be
SUMMARY:3e Stage de kyusho jutsu Organier par le  Kamae Waza
DESCRIPTION:
URL:https://itbf-eu.be/agenda/3e-stage-de-kyusho-jutsu-organier-par-le-kamae-waza/
LOCATION:Hall Sportif de METTET\, de Saint-Donat\, 15\, METTET\, Hainaut\, 5640\, Belgique
END:VEVENT
END:VCALENDAR