BEGIN:VCALENDAR
VERSION:2.0
PRODID:-//ITBF - ECPv6.15.20//NONSGML v1.0//EN
CALSCALE:GREGORIAN
METHOD:PUBLISH
X-WR-CALNAME:ITBF
X-ORIGINAL-URL:https://itbf-eu.be
X-WR-CALDESC:Évènements pour ITBF
REFRESH-INTERVAL;VALUE=DURATION:PT1H
X-Robots-Tag:noindex
X-PUBLISHED-TTL:PT1H
BEGIN:VTIMEZONE
TZID:Europe/Paris
BEGIN:DAYLIGHT
TZOFFSETFROM:+0100
TZOFFSETTO:+0200
TZNAME:CEST
DTSTART:20200329T010000
END:DAYLIGHT
BEGIN:STANDARD
TZOFFSETFROM:+0200
TZOFFSETTO:+0100
TZNAME:CET
DTSTART:20201025T010000
END:STANDARD
BEGIN:DAYLIGHT
TZOFFSETFROM:+0100
TZOFFSETTO:+0200
TZNAME:CEST
DTSTART:20210328T010000
END:DAYLIGHT
BEGIN:STANDARD
TZOFFSETFROM:+0200
TZOFFSETTO:+0100
TZNAME:CET
DTSTART:20211031T010000
END:STANDARD
BEGIN:DAYLIGHT
TZOFFSETFROM:+0100
TZOFFSETTO:+0200
TZNAME:CEST
DTSTART:20220327T010000
END:DAYLIGHT
BEGIN:STANDARD
TZOFFSETFROM:+0200
TZOFFSETTO:+0100
TZNAME:CET
DTSTART:20221030T010000
END:STANDARD
END:VTIMEZONE
BEGIN:VEVENT
DTSTART;TZID=Europe/Paris:20210122T080000
DTEND;TZID=Europe/Paris:20210124T170000
DTSTAMP:20260425T134517
CREATED:20200913T125059Z
LAST-MODIFIED:20200913T125059Z
UID:8256-1611302400-1611507600@itbf-eu.be
SUMMARY:Cours Profs Tai-chi-chuan
DESCRIPTION:
URL:https://itbf-eu.be/agenda/cours-profs-tai-chi-chuan-4/
ORGANIZER;CN="La Recherche du Tao - ASBL":MAILTO:secretariat@larecherchedutao.com
END:VEVENT
BEGIN:VEVENT
DTSTART;TZID=Europe/Paris:20210123T100000
DTEND;TZID=Europe/Paris:20210123T120000
DTSTAMP:20260425T134517
CREATED:20200817T174241Z
LAST-MODIFIED:20200817T174241Z
UID:8163-1611396000-1611403200@itbf-eu.be
SUMMARY:Cours Fédéral  Aïkido 2/4
DESCRIPTION:
URL:https://itbf-eu.be/agenda/cours-federal-aikido-2-4/
LOCATION:Chatelet\, Rue Sainte Barbe 23/2\, Châtelet\, Hainaut\, 6000\, Belgique
ORGANIZER;CN="A%C3%AFkido Kokyu club":MAILTO:ricdranoel@hotmail.com
END:VEVENT
BEGIN:VEVENT
DTSTART;TZID=Europe/Paris:20210123T140000
DTEND;TZID=Europe/Paris:20210123T180000
DTSTAMP:20260425T134517
CREATED:20200817T174048Z
LAST-MODIFIED:20200914T103238Z
UID:8162-1611410400-1611424800@itbf-eu.be
SUMMARY:Stage tsue gei jutsu défense canne
DESCRIPTION:Stage tsue gei jutsu défense canne
URL:https://itbf-eu.be/agenda/stage-tsue-gei-jutsu-defense-canne-7/
ORGANIZER;CN="Genkotsu":MAILTO:clara5335@hotmail.com
END:VEVENT
END:VCALENDAR