BEGIN:VCALENDAR
VERSION:2.0
PRODID:-//ITBF - ECPv6.15.20//NONSGML v1.0//EN
CALSCALE:GREGORIAN
METHOD:PUBLISH
X-ORIGINAL-URL:https://itbf-eu.be
X-WR-CALDESC:Évènements pour ITBF
REFRESH-INTERVAL;VALUE=DURATION:PT1H
X-Robots-Tag:noindex
X-PUBLISHED-TTL:PT1H
BEGIN:VTIMEZONE
TZID:Europe/Paris
BEGIN:DAYLIGHT
TZOFFSETFROM:+0100
TZOFFSETTO:+0200
TZNAME:CEST
DTSTART:20200329T010000
END:DAYLIGHT
BEGIN:STANDARD
TZOFFSETFROM:+0200
TZOFFSETTO:+0100
TZNAME:CET
DTSTART:20201025T010000
END:STANDARD
BEGIN:DAYLIGHT
TZOFFSETFROM:+0100
TZOFFSETTO:+0200
TZNAME:CEST
DTSTART:20210328T010000
END:DAYLIGHT
BEGIN:STANDARD
TZOFFSETFROM:+0200
TZOFFSETTO:+0100
TZNAME:CET
DTSTART:20211031T010000
END:STANDARD
BEGIN:DAYLIGHT
TZOFFSETFROM:+0100
TZOFFSETTO:+0200
TZNAME:CEST
DTSTART:20220327T010000
END:DAYLIGHT
BEGIN:STANDARD
TZOFFSETFROM:+0200
TZOFFSETTO:+0100
TZNAME:CET
DTSTART:20221030T010000
END:STANDARD
END:VTIMEZONE
BEGIN:VEVENT
DTSTART;TZID=Europe/Paris:20210109T120000
DTEND;TZID=Europe/Paris:20210109T160000
DTSTAMP:20260425T135545
CREATED:20200817T173727Z
LAST-MODIFIED:20200817T173727Z
UID:8160-1610193600-1610208000@itbf-eu.be
SUMMARY:Kagami biraki Du Kokyu privé Club et invités
DESCRIPTION:
URL:https://itbf-eu.be/agenda/kagami-biraki-du-kokyu-prive-club-et-invites/
LOCATION:Chatelet\, Rue Sainte Barbe 23/2\, Châtelet\, Hainaut\, 6000\, Belgique
ORGANIZER;CN="A%C3%AFkido Kokyu club":MAILTO:ricdranoel@hotmail.com
END:VEVENT
END:VCALENDAR