BEGIN:VCALENDAR
VERSION:2.0
PRODID:-//ITBF - ECPv6.15.20//NONSGML v1.0//EN
CALSCALE:GREGORIAN
METHOD:PUBLISH
X-WR-CALNAME:ITBF
X-ORIGINAL-URL:https://itbf-eu.be
X-WR-CALDESC:Évènements pour ITBF
REFRESH-INTERVAL;VALUE=DURATION:PT1H
X-Robots-Tag:noindex
X-PUBLISHED-TTL:PT1H
BEGIN:VTIMEZONE
TZID:Europe/Paris
BEGIN:DAYLIGHT
TZOFFSETFROM:+0100
TZOFFSETTO:+0200
TZNAME:CEST
DTSTART:20190331T010000
END:DAYLIGHT
BEGIN:STANDARD
TZOFFSETFROM:+0200
TZOFFSETTO:+0100
TZNAME:CET
DTSTART:20191027T010000
END:STANDARD
BEGIN:DAYLIGHT
TZOFFSETFROM:+0100
TZOFFSETTO:+0200
TZNAME:CEST
DTSTART:20200329T010000
END:DAYLIGHT
BEGIN:STANDARD
TZOFFSETFROM:+0200
TZOFFSETTO:+0100
TZNAME:CET
DTSTART:20201025T010000
END:STANDARD
BEGIN:DAYLIGHT
TZOFFSETFROM:+0100
TZOFFSETTO:+0200
TZNAME:CEST
DTSTART:20210328T010000
END:DAYLIGHT
BEGIN:STANDARD
TZOFFSETFROM:+0200
TZOFFSETTO:+0100
TZNAME:CET
DTSTART:20211031T010000
END:STANDARD
END:VTIMEZONE
BEGIN:VEVENT
DTSTART;VALUE=DATE:20201122
DTEND;VALUE=DATE:20201123
DTSTAMP:20260425T160728
CREATED:20200913T125731Z
LAST-MODIFIED:20200913T125731Z
UID:8266-1606003200-1606089599@itbf-eu.be
SUMMARY:Salon Bien-être Jemeppe
DESCRIPTION:
URL:https://itbf-eu.be/agenda/salon-bien-etre-jemeppe/
ORGANIZER;CN="La Recherche du Tao - ASBL":MAILTO:secretariat@larecherchedutao.com
END:VEVENT
BEGIN:VEVENT
DTSTART;TZID=Europe/Paris:20201122T140000
DTEND;TZID=Europe/Paris:20201122T160000
DTSTAMP:20260425T160728
CREATED:20200817T171727Z
LAST-MODIFIED:20200914T103331Z
UID:8140-1606053600-1606060800@itbf-eu.be
SUMMARY:Sho-Dan  ju-jutsu
DESCRIPTION:Sho-Dan  ju-jutsu
URL:https://itbf-eu.be/agenda/sho-dan-ju-jutsu-2/
ORGANIZER;CN="I.T.B.F":MAILTO:christian@itbf-eu.be
END:VEVENT
END:VCALENDAR