BEGIN:VCALENDAR
VERSION:2.0
PRODID:-//ITBF - ECPv6.15.20//NONSGML v1.0//EN
CALSCALE:GREGORIAN
METHOD:PUBLISH
X-ORIGINAL-URL:https://itbf-eu.be
X-WR-CALDESC:Évènements pour ITBF
REFRESH-INTERVAL;VALUE=DURATION:PT1H
X-Robots-Tag:noindex
X-PUBLISHED-TTL:PT1H
BEGIN:VTIMEZONE
TZID:Europe/Paris
BEGIN:DAYLIGHT
TZOFFSETFROM:+0100
TZOFFSETTO:+0200
TZNAME:CEST
DTSTART:20190331T010000
END:DAYLIGHT
BEGIN:STANDARD
TZOFFSETFROM:+0200
TZOFFSETTO:+0100
TZNAME:CET
DTSTART:20191027T010000
END:STANDARD
BEGIN:DAYLIGHT
TZOFFSETFROM:+0100
TZOFFSETTO:+0200
TZNAME:CEST
DTSTART:20200329T010000
END:DAYLIGHT
BEGIN:STANDARD
TZOFFSETFROM:+0200
TZOFFSETTO:+0100
TZNAME:CET
DTSTART:20201025T010000
END:STANDARD
BEGIN:DAYLIGHT
TZOFFSETFROM:+0100
TZOFFSETTO:+0200
TZNAME:CEST
DTSTART:20210328T010000
END:DAYLIGHT
BEGIN:STANDARD
TZOFFSETFROM:+0200
TZOFFSETTO:+0100
TZNAME:CET
DTSTART:20211031T010000
END:STANDARD
END:VTIMEZONE
BEGIN:VEVENT
DTSTART;VALUE=DATE:20200425
DTEND;VALUE=DATE:20200427
DTSTAMP:20260426T002732
CREATED:20190717T112317Z
LAST-MODIFIED:20200313T225632Z
UID:2255-1587772800-1587945599@itbf-eu.be
SUMMARY:Annuler
DESCRIPTION:stage international info à venir 
URL:https://itbf-eu.be/agenda/stage-international/
LOCATION:complexe de Morlanwelz\, Rue de l'Enseignement\, 1\, Morlanwelz\, Hainaut\, 7140\, Belgique
ORGANIZER;CN="I.T.B.F":MAILTO:christian@itbf-eu.be
END:VEVENT
END:VCALENDAR