BEGIN:VCALENDAR
VERSION:2.0
PRODID:-//ITBF - ECPv6.15.20//NONSGML v1.0//EN
CALSCALE:GREGORIAN
METHOD:PUBLISH
X-WR-CALNAME:ITBF
X-ORIGINAL-URL:https://itbf-eu.be
X-WR-CALDESC:Évènements pour ITBF
REFRESH-INTERVAL;VALUE=DURATION:PT1H
X-Robots-Tag:noindex
X-PUBLISHED-TTL:PT1H
BEGIN:VTIMEZONE
TZID:Europe/Paris
BEGIN:DAYLIGHT
TZOFFSETFROM:+0100
TZOFFSETTO:+0200
TZNAME:CEST
DTSTART:20190331T010000
END:DAYLIGHT
BEGIN:STANDARD
TZOFFSETFROM:+0200
TZOFFSETTO:+0100
TZNAME:CET
DTSTART:20191027T010000
END:STANDARD
BEGIN:DAYLIGHT
TZOFFSETFROM:+0100
TZOFFSETTO:+0200
TZNAME:CEST
DTSTART:20200329T010000
END:DAYLIGHT
BEGIN:STANDARD
TZOFFSETFROM:+0200
TZOFFSETTO:+0100
TZNAME:CET
DTSTART:20201025T010000
END:STANDARD
BEGIN:DAYLIGHT
TZOFFSETFROM:+0100
TZOFFSETTO:+0200
TZNAME:CEST
DTSTART:20210328T010000
END:DAYLIGHT
BEGIN:STANDARD
TZOFFSETFROM:+0200
TZOFFSETTO:+0100
TZNAME:CET
DTSTART:20211031T010000
END:STANDARD
END:VTIMEZONE
BEGIN:VEVENT
DTSTART;TZID=Europe/Paris:20200222T100000
DTEND;TZID=Europe/Paris:20200222T150000
DTSTAMP:20260426T024742
CREATED:20190714T162413Z
LAST-MODIFIED:20190714T162413Z
UID:2127-1582365600-1582383600@itbf-eu.be
SUMMARY:Stage tsue gei jutsu défense canne
DESCRIPTION:Stage tsue gei jutsu défense canne à Carnières
URL:https://itbf-eu.be/agenda/stage-tsue-gei-jutsu-defense-canne-3/
ORGANIZER;CN="Genkotsu":MAILTO:clara5335@hotmail.com
END:VEVENT
BEGIN:VEVENT
DTSTART;TZID=Europe/Paris:20200222T100000
DTEND;TZID=Europe/Paris:20200222T173000
DTSTAMP:20260426T024742
CREATED:20190714T161339Z
LAST-MODIFIED:20190714T161339Z
UID:2125-1582365600-1582392600@itbf-eu.be
SUMMARY:Tai chi Formation profs système SUN
DESCRIPTION:Tai chi Formation profs système SUN à Chanxhe
URL:https://itbf-eu.be/agenda/tai-chi-formation-profs-systeme-sun-15/
LOCATION:Chanxhe\, Chanxhe\, Belgique
ORGANIZER;CN="La Recherche du Tao - ASBL":MAILTO:secretariat@larecherchedutao.com
END:VEVENT
END:VCALENDAR